BEGIN:VCALENDAR
VERSION:2.0
PRODID:spatie/icalendar-generator
DESCRIPTION:Events from Escola Verns – Escola cooperativa del Barri de Sa
 nt Martí
X-WR-CALDESC:Events from Escola Verns – Escola cooperativa del Barri de S
 ant Martí
REFRESH-INTERVAL;VALUE=DURATION:PT1440M
X-PUBLISHED-TTL:PT1440M
BEGIN:VTIMEZONE
TZID:Europe/Madrid
BEGIN:STANDARD
DTSTART:20251026T030000Z
TZOFFSETFROM:+0200
TZOFFSETTO:+0100
END:STANDARD
BEGIN:DAYLIGHT
DTSTART:20260329T020000Z
TZOFFSETFROM:+0100
TZOFFSETTO:+0200
END:DAYLIGHT
BEGIN:STANDARD
DTSTART:20261025T030000Z
TZOFFSETFROM:+0200
TZOFFSETTO:+0100
END:STANDARD
END:VTIMEZONE
BEGIN:VTIMEZONE
TZID:UTC
BEGIN:STANDARD
DTSTART:20250728T163920Z
TZOFFSETFROM:+0000
TZOFFSETTO:+0000
END:STANDARD
END:VTIMEZONE
BEGIN:VEVENT
UID:50-31
DTSTAMP:20260424T163920Z
SUMMARY:AUDITORI (EI)
LOCATION:
ORGANIZER;CN=Escola Verns:MAILTO:dolorsg@escolaverns.cat
DTSTART;TZID=Europe/Madrid;VALUE=DATE:20260430
DTEND;TZID=Europe/Madrid;VALUE=DATE:20260501
X-ALT-DESC;FMTTYPE=TEXT/HTML:
CATEGORIES:El
URL;VALUE=URI:https://www.escolaverns.cat/mc-events/auditori-ei/
METHOD:PUBLISH
END:VEVENT
END:VCALENDAR