BEGIN:VCALENDAR
VERSION:2.0
PRODID:spatie/icalendar-generator
DESCRIPTION:Events from Escola Verns – Escola cooperativa del Barri de Sa
 nt Martí
X-WR-CALDESC:Events from Escola Verns – Escola cooperativa del Barri de S
 ant Martí
REFRESH-INTERVAL;VALUE=DURATION:PT1440M
X-PUBLISHED-TTL:PT1440M
BEGIN:VTIMEZONE
TZID:Europe/Madrid
BEGIN:STANDARD
DTSTART:20251026T030000Z
TZOFFSETFROM:+0200
TZOFFSETTO:+0100
END:STANDARD
BEGIN:DAYLIGHT
DTSTART:20260329T020000Z
TZOFFSETFROM:+0100
TZOFFSETTO:+0200
END:DAYLIGHT
BEGIN:STANDARD
DTSTART:20261025T030000Z
TZOFFSETFROM:+0200
TZOFFSETTO:+0100
END:STANDARD
END:VTIMEZONE
BEGIN:VTIMEZONE
TZID:UTC
BEGIN:STANDARD
DTSTART:20250729T003616Z
TZOFFSETFROM:+0000
TZOFFSETTO:+0000
END:STANDARD
END:VTIMEZONE
BEGIN:VEVENT
UID:40-26
DTSTAMP:20260425T003616Z
SUMMARY:FESTA 2a PASQUA
LOCATION:
ORGANIZER;CN=Gerard_EV:MAILTO:gerardramal@indianwebs.com
DTSTART;TZID=Europe/Madrid;VALUE=DATE:20260525
DTEND;TZID=Europe/Madrid;VALUE=DATE:20260526
X-ALT-DESC;FMTTYPE=TEXT/HTML:
CATEGORIES:Festes
URL;VALUE=URI:https://www.escolaverns.cat/mc-events/festa-2a-pasqua/
METHOD:PUBLISH
END:VEVENT
END:VCALENDAR